BEGIN:VCALENDAR
VERSION:2.0
PRODID:-//eventon.com NONSGML v1.0//EN
BEGIN:VEVENT
UID:69e5e3049a2c0
DTSTAMP:20260420T102540
DTSTART:20240731T160000Z
DTEND:20240731T180000Z
TZID:Europe/Berlin
LOCATION:heimatHOF Gut Ziegenberg Burgstraße 15\,  06493 Ballenstedt
SUMMARY:Offene Holzwerkstatt
DESCRIPTION: Egal ob Anfänger oder erfahrener Handwerker\,  bei uns ist jeder willkommen\,  der seine Kreativität ausleben möchte. Tauche ein in die Welt des Holzhandwerks\,  lerne neue Techniken und gestalte einzigartige Projekte. Wir freuen uns darauf\,  gemeinsam mit dir zu sägen\,  hobeln und schmirgeln. Komm vorbei und entdecke die Magie des Holzes![..]\nhttps://gutziegenberg.de/veranstaltung/offene-holzwerkstatt-6/
URL:https://gutziegenberg.de/veranstaltung/offene-holzwerkstatt-6/
END:VEVENT
END:VCALENDAR