BEGIN:VCALENDAR
VERSION:2.0
PRODID:-//eventon.com NONSGML v1.0//EN
BEGIN:VEVENT
UID:69e5fb7053846
DTSTAMP:20260420T120952
DTSTART:20250725T080000Z
DTEND:20250725T130000Z
TZID:Europe/Berlin
LOCATION:heimatHOF Gut Ziegenberg Burgstraße 15\,  06493 Ballenstedt
SUMMARY:Tonclub – Formen\,  Fühlen\,  Feuer frei!
DESCRIPTION: Lust\,  mal mit Ton zu arbeiten? Im Tonclub kannst du in die Welt der Keramik schnuppern und unter Anleitung von Töpferin Ulrike Mangels deine eigenen kleinen Objekte gestalten – ob Schale\,  Tierfigur oder Fantasiewesen. Wir zeigen dir\,  wie du den Ton formst\,  glasierst und im Brennofen haltbar machst. Einfach ausprobieren\, [..]\nhttps://gutziegenberg.de/veranstaltung/tonclub-formen-fuehlen-feuer-frei/
URL:https://gutziegenberg.de/veranstaltung/tonclub-formen-fuehlen-feuer-frei/
END:VEVENT
END:VCALENDAR