BEGIN:VCALENDAR
VERSION:2.0
PRODID:-//eventon.com NONSGML v1.0//EN
BEGIN:VEVENT
UID:69e5f5829f589
DTSTAMP:20260420T114434
DTSTART:20250728T080000Z
DTEND:20250730T120000Z
TZID:Europe/Berlin
LOCATION:
SUMMARY:Deine Geschichte zählt!
DESCRIPTION: Du hast eine Geschichte im Kopf – aber weißt nicht\,  wie du anfangen sollst? In dieser besonderen Schreibwerkstatt mit der Autorin Anita Reinkober (alias Edith Simonka) bekommst du Raum\,  deine eigenen Ideen aufs Papier zu bringen. Ob fantastische Erzählung\,  Erinnerung oder kleine Alltagsgeschichte: Hier darf alles seinen Platz finden. Gemeinsam[..]\nhttps://gutziegenberg.de/veranstaltung/deine-geschichte-zaehlt/
URL:https://gutziegenberg.de/veranstaltung/deine-geschichte-zaehlt/
END:VEVENT
END:VCALENDAR