BEGIN:VCALENDAR
VERSION:2.0
PRODID:-//eventon.com NONSGML v1.0//EN
BEGIN:VEVENT
UID:69ec96368b4fa
DTSTAMP:20260425T122350
DTSTART:20260606T080000Z
DTEND:20260606T100000Z
TZID:Europe/Berlin
LOCATION:heimatHOF Gut Ziegenberg Burgstraße 15\,  06493 Ballenstedt
SUMMARY:Offene Holzwerkstatt
DESCRIPTION: In unserem Schnitzkurs dreht sich alles um Holz\,  Messer und ruhige Hände. Gemeinsam lernen wir einfache Schnitztechniken kennen und gestalten kleine Figuren\,  Formen oder Gebrauchsgegenstände aus Holz. Ob zum Ausprobieren oder Vertiefen – der Kurs ist für Anfänger*innen ebenso geeignet wie für Neugierige mit ersten Erfahrungen. Ein entschleunigendes Angebot zum[..]\nhttps://gutziegenberg.de/veranstaltung/offene-holzwerkstatt-9/
URL:https://gutziegenberg.de/veranstaltung/offene-holzwerkstatt-9/
END:VEVENT
END:VCALENDAR